BEGIN:VCALENDAR
VERSION:2.0
PRODID:-//ChamberMaster//Event Calendar 2.0//EN
METHOD:PUBLISH
X-PUBLISHED-TTL:P3D
REFRESH-INTERVAL:P3D
CALSCALE:GREGORIAN
BEGIN:VEVENT
DTSTART:20180927T150000Z
DTEND:20180927T180000Z
X-MICROSOFT-CDO-ALLDAYEVENT:FALSE
SUMMARY:LP Siding Installation Training
DESCRIPTION:Get certified to correctly install LP  SmartSide  Trim and Siding. Save time and make more money!\n\nThis exclusive training event will help you take your siding jobs to the next level.\n\nQualifies for (3) CCB Continuing Education Credit Hours!\n\nBreakfast will be served.\n\nAll attendees are entered for a chance to win a Bostitch Nail Gun.\n\nAll attendees get two Diablo Saw Blades.\n\nGet a FREE LP BuildSmart Shirt.
X-ALT-DESC;FMTTYPE=text/html:<p>Get certified to correctly install LP&reg\; SmartSide&reg\; Trim and Siding. Save time and make more money!<br />\nThis exclusive training event will help you take your siding jobs to the next level.<br />\nQualifies for (3) CCB Continuing Education Credit Hours!<br />\nBreakfast will be served.<br />\nAll attendees are entered for a chance to win a Bostitch Nail Gun.<br />\nAll attendees get two Diablo Saw Blades.<br />\nGet a FREE LP BuildSmart Shirt.</p>\n
LOCATION:The Event Center at The Lodge at Riverside 940 SE 7th St.Grants Pass\, OR 97526
UID:e.9573.71
SEQUENCE:3
DTSTAMP:20260426T005738Z
URL:https://members.buildso.org/events/details/lp-siding-installation-training-71
END:VEVENT

END:VCALENDAR
