BEGIN:VCALENDAR
VERSION:2.0
PRODID:-//ChamberMaster//Event Calendar 2.0//EN
METHOD:PUBLISH
X-PUBLISHED-TTL:P3D
REFRESH-INTERVAL:P3D
CALSCALE:GREGORIAN
BEGIN:VEVENT
DTSTART:20191212T160000Z
DTEND:20191213T010000Z
X-MICROSOFT-CDO-ALLDAYEVENT:FALSE
SUMMARY:Initial Lead Paint Certification Class - December 2019
DESCRIPTION:Lead Based Paint Certification Course\n\nRenovation\, Repair and Painting (RRP) \n\n8 HOUR INITIAL COURSE\nThis class qualifies for (8) Series B Credit Hours for CCB License Renewal.\n\n\n	Class space is limited\n	first-come -  first-served\n\nPark across from Bad Ass Coffee right behind the library and get your parking pass at the back door. Photos will be taken before class for your certificates and need to be taken with no hats and no glasses like at the DMV. Please arrive early so you can get the parking passes and get checked in with your photo.
X-ALT-DESC;FMTTYPE=text/html:<h1><span style="font-family:tahoma\;"><span style="font-size:14px\;"><span style="font-weight:bold\;language:en-US\;">Lead Based Paint Certification Course</span></span></span></h1>\n\n<h2><span style="font-family:tahoma\;"><span style="font-size:14px\;"><span style="font-weight:bold\;language:en-US\;">Renovation\, Repair and Painting (RRP) </span></span></span></h2>\n\n<h4><span style="color:#0000CD\;"><span style="font-family:tahoma\;"><span style="font-size:14px\;"><span style="font-weight:bold\;language:en-US\;">8 HOUR INITIAL </span>COURSE</span></span></span></h4>\n<span style="font-family:tahoma\;"><span style="font-size:9.0pt\;">This class qualifies for (8) Series B Credit Hours for CCB License Renewal.</span></span>\n\n<ul>\n	<li><span style="font-family:tahoma\;"><span style="font-size:9.0pt\;">Class space is limited</span></span></li>\n	<li><span style="font-family:tahoma\;"><span style="font-size:9.0pt\;">first-come -&nbsp\; first-served</span></span></li>\n</ul>\n<span style="font-family:tahoma\;"><span style="font-size:9.0pt\;">Park across from Bad Ass Coffee right behind the library and get your parking pass at the back door. Photos will be taken before class for your certificates and need to be taken with no hats and no glasses like at the DMV. Please arrive early so you can get the parking passes and get checked in with your photo.</span></span>
LOCATION:Jackson County Library Services - Medford Carpenters Room 205 S. Central Medford\, OR 97504
UID:e.9573.750
SEQUENCE:3
DTSTAMP:20260425T002319Z
URL:https://members.buildso.org/events/details/initial-lead-paint-certification-class-december-2019-12-12-2019-750
END:VEVENT

END:VCALENDAR
