BEGIN:VCALENDAR
VERSION:2.0
PRODID:-//ChamberMaster//Event Calendar 2.0//EN
METHOD:PUBLISH
X-PUBLISHED-TTL:P3D
REFRESH-INTERVAL:P3D
CALSCALE:GREGORIAN
BEGIN:VEVENT
DTSTART:20250606T140000Z
DTEND:20250606T223000Z
X-MICROSOFT-CDO-ALLDAYEVENT:FALSE
SUMMARY:2025 Builders Classic Golf Tournament - June 6th
DESCRIPTION:SAVE THE DATE!\n\n\n\n2025 Builders Classic Golf Tournament\n\nLocation: Eagle Point Golf Club\n\nDate: Friday\, June 6th\n\nTime : 7am-3:30pm\n\n\nAbout the Event\n\nJoin us for the 2025 Builders Classic Golf Tournament\, a premier golfing experience bringing together builders\, contractors\, and industry professionals. Play golf and support our industry.\n\n\n\nThe theme is James Bond 007!\n\nElevate your game and join us at our very popular golf tournament\, uniting over 200 building industry experts supporting BASO so we can support our building industry.\n\nNetworking: Enjoy great golf with other building industry professionals\, forge new connections\, and explore business opportunities in a relaxed and enjoyable atmosphere.\n\nGolf: Experience an award-winning 18 hole course suitable for all skill levels.\n\nDelicious Food & Drinks: Indulge in mouthwatering cuisine & beverages throughout the day.\n\nPrizes: Compete for exciting awards and giveaways.\n\nFun Activities: Enjoy additional entertainment and activities during play. Games\, raffles\, swag\, etc.\n\nThis golf tournament supports BASO so we can support our local Building Industry including CTE for our young people. Let's build the future together!\n\n\n\nTHANK YOU FOR PLAYING!\n\n\n \n\n \n\n\n \n\n\nSchedule\n\n7:00 AM - 8:15 AM: Registration and Breakfast\n\n8:15 - 8:30 AM: Welcome and Opening Remarks\n\n8:30 AM: Shotgun Start\n\n1:30 PM - 2:30 PM: Luncheon\n\n2:30 - 3:30 PM: Awards Ceremony\n\n\nTournament Features\n\n\n	4-Person Scramble\n	18-Hole Golf Tournament\n	Exciting Contests & Prizes\n	Networking Opportunities\n	Awards for Top Performers\n	Catered Meals and Refreshments\n\n\n\nFrequently Asked Questions (FAQ)\n\nHave questions? Email events@buildso.com.\n\n\nContact Information\n\nFor inquiries\, please contact Lydia Love - Event Director / Email: events@buildso.com / Phone: 541-773-2872\n\n\nFollow Us\n\nStay connected and join the conversation on social media:\n\n\n	Facebook\n	Instagram\n\n\nUse the hashtag #BASOBuildersClassic
X-ALT-DESC;FMTTYPE=text/html:<div class="module module-text tb_h8vw097  repeat  ">\n<div class="tb_text_wrap">\n<div class="min-h-[20px] text-message flex flex-col items-start gap-3 whitespace-pre-wrap break-words [.text-message+&amp\;]:mt-5 overflow-x-auto" data-message-author-role="assistant" data-message-id="c8631f46-59df-4580-8f5f-24964814fd2e">\n<div class="markdown prose w-full break-words dark:prose-invert light">\n<h1 style="text-align: center\;"><span style="font-size:28px\;">SAVE THE DATE!</span></h1>\n\n<h1><br />\n<strong>2025 Builders Classic Golf Tournament</strong></h1>\n\n<h2><strong>Location</strong>: Eagle Point Golf Club<br />\n<strong>Date</strong>: Friday\, June 6th<br />\n<strong>Time</strong> : 7am-3:30pm</h2>\n\n<hr />\n<h2><strong>About the Event</strong></h2>\n\n<p><span style="font-size:16px\;"><span style="font-family:tahoma\;">Join us for the 2025 Builders Classic Golf Tournament\, a premier golfing experience bringing together builders\, contractors\, and industry professionals. Play golf and support our industry.<br />\n<br />\n<span style="font-size:18px\;"><strong>The theme is James Bond 007!</strong></span></span></span></p>\n\n<p><span style="font-size:16px\;"><span style="font-family:tahoma\;"><strong>Elevate your game and join us at our very popular golf tournament\, uniting over 200 building industry experts supporting BASO so we can support our building industry.</strong></span></span></p>\n\n<p class="indent-0"><span style="font-size:16px\;"><span style="font-family:tahoma\;"><strong>Networking:</strong>&nbsp\;Enjoy great golf with other building industry professionals\, forge new connections\, and explore business opportunities in a relaxed and enjoyable atmosphere.</span></span></p>\n\n<p><span style="font-size:16px\;"><span style="font-family:tahoma\;"><strong>Golf:</strong>&nbsp\;Experience an award-winning 18 hole course suitable for all skill levels.</span></span></p>\n\n<p><span style="font-size:16px\;"><span style="font-family:tahoma\;"><strong>Delicious Food &amp\; Drinks:</strong>&nbsp\;Indulge in mouthwatering cuisine &amp\; beverages throughout the day.</span></span></p>\n\n<p><span style="font-size:16px\;"><span style="font-family:tahoma\;"><strong>Prizes:</strong>&nbsp\;Compete for exciting awards and giveaways.</span></span></p>\n\n<p><span style="font-size:16px\;"><span style="font-family:tahoma\;"><strong>Fun Activities:</strong>&nbsp\;Enjoy additional entertainment and activities during play. Games\, raffles\, swag\, etc.</span></span></p>\n\n<p><span style="font-size:16px\;"><span style="font-family:tahoma\;"><strong>This golf tournament supports BASO so we can support our local Building Industry including CTE for our young people. Let&#39\;s build the future together!</strong></span></span></p>\n\n<p style="text-align: center\;"><br />\n<span style="font-size:28px\;"><span style="color:#FF0000\;"><strong>THANK YOU FOR PLAYING!</strong></span></span></p>\n\n<div class="module module-text tb_laaj080 repeat ">\n<h2 style="text-align: center\;">&nbsp\;</h2>\n\n<h3 style="text-align: center\;">&nbsp\;</h3>\n</div>\n\n<h3 style="text-align: center\;">&nbsp\;</h3>\n\n<hr />\n<h2><strong>Schedule</strong></h2>\n\n<p><span style="font-size:16px\;"><strong>7:00 AM - 8:15 AM:</strong> Registration and Breakfast<br />\n<strong>8:15 - 8:30 AM:</strong> Welcome and Opening Remarks<br />\n<strong>8:30 AM:</strong> Shotgun Start<br />\n<strong>1:30 PM - 2:30 PM:</strong> Luncheon<br />\n<strong>2:30 - 3:30 PM:</strong> Awards Ceremony</span></p>\n\n<hr />\n<h2><strong>Tournament Features</strong></h2>\n\n<ul>\n	<li><span style="font-size:18px\;"><strong>4-Person Scramble</strong></span></li>\n	<li><span style="font-size:18px\;"><strong>18-Hole Golf Tournament</strong></span></li>\n	<li><span style="font-size:18px\;"><strong>Exciting Contests &amp\; Prizes</strong></span></li>\n	<li><span style="font-size:18px\;"><strong>Networking Opportunities</strong></span></li>\n	<li><span style="font-size:18px\;"><strong>Awards for Top Performers</strong></span></li>\n	<li><span style="font-size:18px\;"><strong>Catered Meals and Refreshments</strong></span></li>\n</ul>\n\n<hr />\n<h2><strong>Frequently Asked Questions (FAQ)</strong></h2>\n\n<p><span style="font-size:16px\;">Have questions? Email <a href="mailto:events@buildso.com">events</a><a href="mailto:jessica@buildso.com">@buildso.com</a>.</span></p>\n\n<hr />\n<h2><strong>Contact Information</strong></h2>\n\n<p><span style="font-size:16px\;">For inquiries\, please contact Lydia Love - Event Director / Email: <a href="mailto:events@buildso.com">events@buildso.com</a> / Phone: 541-773-2872</span></p>\n\n<hr />\n<h2><strong>Follow Us</strong></h2>\n\n<p><span style="font-size:16px\;">Stay connected and join the conversation on social media:</span></p>\n\n<ul>\n	<li><span style="font-size:16px\;"><a href="https://www.facebook.com/BuildersAssociationSouthernOregon">Facebook</a></span></li>\n	<li><span style="font-size:16px\;"><a href="https://www.instagram.com/basouthernor">Instagram</a></span></li>\n</ul>\n\n<p>Use the hashtag <strong>#BASOBuildersClassic</strong></p>\n</div>\n</div>\n</div>\n</div>\n
LOCATION:Location: @ Eagle Point Golf Club 100 Eagle Point Dr. Eagle Point\, OR 97524
UID:e.9573.873
SEQUENCE:3
DTSTAMP:20260420T054549Z
URL:https://members.buildso.org/events/details/2025-builders-classic-golf-tournament-june-6th-873
END:VEVENT

END:VCALENDAR
