BEGIN:VCALENDAR
VERSION:2.0
PRODID:-//ChamberMaster//Event Calendar 2.0//EN
METHOD:PUBLISH
X-PUBLISHED-TTL:P3D
REFRESH-INTERVAL:P3D
CALSCALE:GREGORIAN
BEGIN:VEVENT
DTSTART:20200612T140000Z
DTEND:20200612T220000Z
X-MICROSOFT-CDO-ALLDAYEVENT:FALSE
SUMMARY:2020 Annual Builders Classic Golf Tournament
DESCRIPTION:2020 Annual Builders Classic Golf Tournament\n\nPresented by Builders Association Southern Oregon\n\nFriday June 12th\, 2020: 7am-3pm\n\n \n\n4-person Scramble\n\nCheck In @ 7:00am\n\nBreakfast @ 7:00am-8:30am\n\nShotgun Start @ 8:30am\n\nLunch @ 1:30pm\n\n \n\nSIGN UP ONLINE\n\nCLICK HERE FOR APPLICATION\n\nBECOME A SPONSOR\n\n \n\nThe 2020 Builders Classic Golf Tournament will be held on Friday\, June 12th at the Eagle Point Golf Club. The tournament is presented by the Builders Association Southern Oregon supporting Construction Technology Education (CTE) for our Southern Oregon young people.\n\n \n\nProud to announce that this is the largest single shotgun golf tournament in Southern Oregon.\n\nIf you'd like to get a team\, or participate as a sponsor\, let us know! This is one of our favorite events! It is the largest single shotgun tournament in Southern Oregon.\n\n \n\nAbout Builders Association of Southern Oregon (BASO)\n\nThe Builders Association Southern Oregon is a non-profit trade organization representing the\n\nbuilding industry in Southern Oregon. We provide industry information and education to our members and the public. BASO is your trusted resource to find builders\, subcontractors\, suppliers\, financiers and landscapers to help you build or remodel your home.\n\nFor more information contact our office : 541-773-2872 / info@buildso.com
X-ALT-DESC;FMTTYPE=text/html:<h1 style="text-align: left\;">2020 Annual Builders Classic Golf Tournament</h1>\n\n<h6 style="text-align: left\;">Presented by Builders Association Southern Oregon</h6>\n\n<h6 style="text-align: left\;">Friday June 12th\, 2020: 7am-3pm</h6>\n\n<h6>&nbsp\;</h6>\n\n<h6 style="text-align: left\;">4-person Scramble</h6>\n\n<h6 style="text-align: left\;">Check In @ 7:00am<br />\nBreakfast @ 7:00am-8:30am<br />\nShotgun Start @ 8:30am<br />\nLunch @ 1:30pm</h6>\n\n<p>&nbsp\;</p>\n\n<h2 style="text-align: left\;"><a href="https://members.buildso.com/events/details/2020-annual-builders-classic-golf-tournament-745" rel="noopener" target="_blank"><span style="color: #0000ff\;">SIGN UP ONLINE</span></a></h2>\n\n<h2 style="text-align: left\;"><a href="https://indd.adobe.com/view/e1def91a-674e-434a-ba7c-fe32c7899ace" rel="noopener" target="_blank"><span style="color: #0000ff\;">CLICK HERE FOR APPLICATION</span></a></h2>\n\n<h2 style="text-align: left\;"><a href="https://indd.adobe.com/view/b430fbd3-9b0c-4688-be56-5f69ca6cd020" rel="noopener" target="_blank"><span style="color: #0000ff\;">BECOME A SPONSOR</span></a></h2>\n\n<p>&nbsp\;</p>\n\n<p style="text-align: left\;">The 2020 Builders Classic Golf Tournament will be held on Friday\, June 12th at the Eagle Point Golf Club. The tournament is presented by the Builders Association Southern Oregon supporting Construction Technology Education (CTE) for our Southern Oregon young people.<br />\n&nbsp\;</p>\n\n<p style="text-align: left\;">Proud to announce that this is the largest single shotgun golf tournament in Southern Oregon.</p>\n\n<p style="text-align: left\;">If you&rsquo\;d like to get a team\, or participate as a sponsor\, let us know! This is one of our favorite events! It is the largest single shotgun tournament in Southern Oregon.<br />\n&nbsp\;</p>\n\n<p><strong>About&nbsp\;Builders Association of Southern Oregon (BASO)</strong></p>\n\n<p>The Builders Association Southern Oregon is a non-profit trade organization representing the<br />\nbuilding industry in Southern Oregon. We provide industry information and education to our members and the public. BASO is your trusted resource to find builders\, subcontractors\, suppliers\, financiers and landscapers to help you build or remodel your home.</p>\n\n<p>For more information contact our office : 541-773-2872 / info@buildso.com</p>\n
LOCATION:Eagle Point Golf Club 100 Eagle Point Dr. Eagle Point\, OR 97524
UID:e.9573.745
SEQUENCE:3
DTSTAMP:20260424T121508Z
URL:https://members.buildso.org/events/details/2020-annual-builders-classic-golf-tournament-745
END:VEVENT

END:VCALENDAR
