BEGIN:VCALENDAR
VERSION:2.0
PRODID:-//ChamberMaster//Event Calendar 2.0//EN
METHOD:PUBLISH
X-PUBLISHED-TTL:P3D
REFRESH-INTERVAL:P3D
CALSCALE:GREGORIAN
BEGIN:VEVENT
DTSTART:20200314T000000Z
DTEND:20200313T183000Z
X-MICROSOFT-CDO-ALLDAYEVENT:FALSE
SUMMARY:2020 Annual BASO Poker Tournament
DESCRIPTION:2020 Annual BASO Poker Tournament : Texas Hold 'Em Style\n\npresented by Builders Association Southern Oregon\n\n\n\n\n\n*food catered by Sweet Tea Express and drinks included in entry fee\n\n\n\nLook forward to seeing you TONIGHT at our exciting and mega popular BASO poker tournament! The proceeds will help us fight for our building industry as we face the challenging and ever-changing political climate in Salem. This fabulous tournament helps fund our Political Action Committee (PAC) Oregonians for Affordable Housing so we can support candidates who support us. We know that a strong building industry means strong\, healthy and safe communities.\n\n\n\nNo one else does what BASO does\, and we need your support more than ever to help us educate\, advocate and motivate for safe\, sustainable and affordable construction policy. Come have a super fun night of poker\, food and beverage while you help us fight for your business and our industry.\n\n\n\nCatered by: Sweet Tea Express - Brisket\, Tri Tip\, BBQ Chicken and all the BBQ fixins' like baked beans\, corn bread and potato salad
X-ALT-DESC;FMTTYPE=text/html:<span style="font-family:tahoma\;"><span style="font-size:12.0pt\;"><span style="font-size:24px\;"><strong>2020 Annual BASO Poker Tournament : Texas Hold &#39\;Em Style</strong></span><br />\n<span style="font-size:14px\;">presented by Builders Association Southern Oregon</span></span></span><br />\n<br />\n<br />\n<span style="font-size:16px\;"><em><span style="font-size:18px\;"><strong>*food catered by Sweet Tea Express and drinks included in entry fee</strong></span></em></span><br />\n<br />\n<span style="font-size:16px\;"><span style="font-family:tahoma\;">Look forward to seeing you TONIGHT at our exciting and mega popular BASO poker tournament! The proceeds will help us fight for our building industry as we face the challenging and ever-changing political climate in Salem. This fabulous tournament helps fund our Political Action Committee (PAC) Oregonians for Affordable Housing so we can support candidates who support us. We know that a strong building industry means strong\, healthy and safe communities.<br />\n<br />\nNo one else does what BASO does\, and we need your support more than ever to help us educate\, advocate and motivate for safe\, sustainable and affordable construction policy. Come have a super fun night of poker\, food and beverage while you help us fight for your business and our industry.<br />\n<br />\nCatered by: Sweet Tea Express - </span></span><span style="font-family:calibri\,sans-serif\;"><span style="font-size:11.0pt\;">Brisket\, Tri Tip\, BBQ Chicken and all the BBQ fixins&#39\; like baked beans\, corn bread and potato salad</span></span>
LOCATION:No Frills Flooring 782 Rossanley Dr\, Medford\, OR 97501 541-773-3335
UID:e.9573.754
SEQUENCE:3
DTSTAMP:20260424T173307Z
URL:https://members.buildso.org/events/details/2020-annual-baso-poker-tournament-754
END:VEVENT

END:VCALENDAR
