BEGIN:VCALENDAR
VERSION:2.0
PRODID:-//ChamberMaster//Event Calendar 2.0//EN
METHOD:PUBLISH
X-PUBLISHED-TTL:P3D
REFRESH-INTERVAL:P3D
CALSCALE:GREGORIAN
BEGIN:VEVENT
DTSTART:20191206T020000Z
DTEND:20191206T043000Z
X-MICROSOFT-CDO-ALLDAYEVENT:FALSE
SUMMARY:2019 Annual Christmas Dinner
DESCRIPTION:Our Annual Christmas Dinner will be held at the U.S Hotel Ballroom above the US Bank from 6-8:30pm\, and this year we are celebrating our 54th anniversary! We look forward to seeing you there!!\n\n\n\nIt's a wonderful time to get together\, celebrate the year\, and take a look at what we accomplished together as the Builders Association Southern Oregon.\n\n\n\nTake your crew out for a fancy dinner! Great company\, music\, food\, networking\, and more!\n\n\n\nPlease RSVP : Space is Limited\n\n\n\nRSVP by November 30th\n\n\n\nDinner Catered by: Jacksonville Inn
X-ALT-DESC;FMTTYPE=text/html:<span style="font-size:14px\;"><span style="font-family:tahoma\;">Our Annual Christmas Dinner will be held at the U.S Hotel Ballroom above the US Bank from 6-8:30pm\, and this year we are celebrating our 54th anniversary! We look forward to seeing you there!!<br />\n<br />\nIt&#39\;s a wonderful time to get together\, celebrate the year\, and take a look at what we accomplished together as the Builders Association Southern Oregon.<br />\n<br />\nTake your crew out for a fancy dinner! Great company\, music\, food\, networking\, and more!<br />\n<br />\nPlease RSVP : Space is Limited<br />\n<br />\nRSVP by November 30th<br />\n<br />\nDinner Catered by: Jacksonville Inn</span></span>
LOCATION:US Hotel Ballroom 125 E. California Street Jacksonville\, OR 97530
UID:e.9573.88
SEQUENCE:3
DTSTAMP:20260424T224008Z
URL:https://members.buildso.org/events/details/2019-annual-christmas-dinner-88
END:VEVENT

END:VCALENDAR
