BEGIN:VCALENDAR
VERSION:2.0
PRODID:-//ChamberMaster//Event Calendar 2.0//EN
METHOD:PUBLISH
X-PUBLISHED-TTL:P3D
REFRESH-INTERVAL:P3D
CALSCALE:GREGORIAN
BEGIN:VEVENT
DTSTART;VALUE=DATE:20181120
DTEND;VALUE=DATE:20181121
TRANSP:TRANSPARENT
X-MICROSOFT-CDO-ALLDAYEVENT:TRUE
SUMMARY:2018 Thanksgiving Express-Thanksgiving Dinners: Donations
DESCRIPTION:The Builders Association Southern Oregon is partnering with City Life and Food for Less\n\nto give back to families in our local community\n\nby donating Thanksgiving Dinners!\n\n\n\nHelp us reach our goal of 2\,000 dinners!\n\n	Complete Thanksgiving meal is only $40\n	Each dinner feeds a family of six\n	Donate by November 20th\n\nThank you for helping us feed our community: please donate today.
X-ALT-DESC;FMTTYPE=text/html:The Builders Association Southern Oregon is partnering with City Life and Food for Less<br />\nto give back to families in our local community<br />\nby donating Thanksgiving Dinners!<br />\n<br />\nHelp us reach our goal of 2\,000 dinners!\n<ul>\n	<li>Complete Thanksgiving meal is only $40</li>\n	<li>Each dinner feeds a family of six</li>\n	<li>Donate by November 20th</li>\n</ul>\nThank you for helping us feed our community: please donate today.
LOCATION:
UID:e.9573.72
SEQUENCE:3
DTSTAMP:20260425T212309Z
URL:https://members.buildso.org/events/details/2018-thanksgiving-express-thanksgiving-dinners-donations-72
END:VEVENT

END:VCALENDAR
