BEGIN:VCALENDAR
VERSION:2.0
PRODID:-//ChamberMaster//Event Calendar 2.0//EN
METHOD:PUBLISH
X-PUBLISHED-TTL:P3D
REFRESH-INTERVAL:P3D
CALSCALE:GREGORIAN
BEGIN:VEVENT
DTSTART:20180915T170000Z
DTEND:20180915T230000Z
X-MICROSOFT-CDO-ALLDAYEVENT:FALSE
SUMMARY:2018 Southern Oregon Tour of Homes
DESCRIPTION:4th Annual Southern Oregon Tour of Homes\n\n\n\nFriday-Sunday: September 14-16 & 21-23\n\n\n\nThe Southern Oregon Tour of Homes is a free\, scattered-site new home tour event featuring new and remodeled houses. Come see the newest styles and fashions in modern homes.\nAre you looking to remodel your bathroom or kitchen? Check out\, first hand\, different cabinets\, counter tops and floors. See the latest in lighting and plumbing fixtures.\n\nNeed new windows or carpet? Come see\, touch and feel the products before you spend thousands of dollars on a remodel. Or\, learn easy and cost effective ways to make small changes that will give your current home a fresh new look. While you are on the tour talk to the experts\, find the people and companies that you want to connect with.\n\nThe Tour is a fun and free event that will last for just two weekends   September 14-16 and 21-23\, 2018. This event happens only once a year in Southern Oregon and you don't want to miss it. Bring your family and friends to come and dream about the possibilities of owning a new home\, remodeling your home\, adding an addition for an elderly parent\, refreshing the look of your current home\, or just having an adventure for the day.\n\nGet the inside look at the finest homes in Southern Oregon!\n\nSee you on the Tour!\n\n\n\nClick Here for Official Tour Guide to Take the Tour\n\n\n\nFeaturing: Buntin Construction - Foursquare Homes - Hayden Homes - KDA Homes - Lori Magel Homes - Mahar Homes - Riverdell Construction - Sam Sarich Construction - Taylored Elements - Vision Homes\n\nDrop by our office\, email or give us a call for more information-541-773-2872
X-ALT-DESC;FMTTYPE=text/html:<span style="font-size:14px\;"><strong>4th Annual Southern Oregon Tour of Homes<br />\n<br />\nFriday-Sunday: September 14-16 &amp\; 21-23</strong></span><br />\n<br />\nThe Southern Oregon Tour of Homes is a free\, scattered-site new home tour event featuring new and remodeled houses. Come see the newest styles and fashions in modern homes.\n<p>Are you looking to remodel your bathroom or kitchen? Check out\, first hand\, different cabinets\, counter tops and floors. See the latest in lighting and plumbing fixtures.</p>\n\n<p>Need new windows or carpet? Come see\, touch and feel the products before you spend thousands of dollars on a remodel. Or\, learn easy and cost effective ways to make small changes that will give your current home a fresh new look. While you are on the tour talk to the experts\, find the people and companies that you want to connect with.</p>\n\n<p>The Tour is a fun and free event that will last for just two weekends &ndash\; September 14-16 and 21-23\, 2018. This event happens only once a year in Southern Oregon and you don&rsquo\;t want to miss it. Bring your family and friends to come and dream about the possibilities of owning a new home\, remodeling your home\, adding an addition for an elderly parent\, refreshing the look of your current home\, or just having an adventure for the day.</p>\n\n<p>Get the inside look at the finest homes in Southern Oregon!</p>\n\n<p>See you on the Tour!<br />\n<br />\n<a href="https://issuu.com/buildersassociationsouthernoregon/docs/2018_tour_guide-issuu">Click Here for Official Tour Guide to Take the Tour</a><br />\n<br />\nFeaturing: Buntin Construction - Foursquare Homes - Hayden Homes - KDA Homes - Lori Magel Homes - Mahar Homes - Riverdell Construction - Sam Sarich Construction - Taylored Elements - Vision Homes</p>\n\n<p>Drop by our office\, email or give us a call for more information-541-773-2872<br />\n&nbsp\;</p>\n
LOCATION:FREE: Scattered New Home Tour in the Rogue Valley
UID:e.9573.50
SEQUENCE:3
DTSTAMP:20260426T004224Z
URL:https://members.buildso.org/events/details/2018-southern-oregon-tour-of-homes-09-15-2018-50
END:VEVENT

END:VCALENDAR
